BEGIN:VCALENDAR
VERSION:2.0
PRODID:-//Calhoun County Illinois - ECPv6.15.19//NONSGML v1.0//EN
CALSCALE:GREGORIAN
METHOD:PUBLISH
X-ORIGINAL-URL:https://calhounil.org
X-WR-CALDESC:Events for Calhoun County Illinois
REFRESH-INTERVAL;VALUE=DURATION:PT1H
X-Robots-Tag:noindex
X-PUBLISHED-TTL:PT1H
BEGIN:VTIMEZONE
TZID:America/New_York
BEGIN:DAYLIGHT
TZOFFSETFROM:-0500
TZOFFSETTO:-0400
TZNAME:EDT
DTSTART:20240310T070000
END:DAYLIGHT
BEGIN:STANDARD
TZOFFSETFROM:-0400
TZOFFSETTO:-0500
TZNAME:EST
DTSTART:20241103T060000
END:STANDARD
BEGIN:DAYLIGHT
TZOFFSETFROM:-0500
TZOFFSETTO:-0400
TZNAME:EDT
DTSTART:20250309T070000
END:DAYLIGHT
BEGIN:STANDARD
TZOFFSETFROM:-0400
TZOFFSETTO:-0500
TZNAME:EST
DTSTART:20251102T060000
END:STANDARD
BEGIN:DAYLIGHT
TZOFFSETFROM:-0500
TZOFFSETTO:-0400
TZNAME:EDT
DTSTART:20260308T070000
END:DAYLIGHT
BEGIN:STANDARD
TZOFFSETFROM:-0400
TZOFFSETTO:-0500
TZNAME:EST
DTSTART:20261101T060000
END:STANDARD
BEGIN:DAYLIGHT
TZOFFSETFROM:-0500
TZOFFSETTO:-0400
TZNAME:EDT
DTSTART:20270314T070000
END:DAYLIGHT
BEGIN:STANDARD
TZOFFSETFROM:-0400
TZOFFSETTO:-0500
TZNAME:EST
DTSTART:20271107T060000
END:STANDARD
END:VTIMEZONE
BEGIN:VEVENT
DTSTART;TZID=America/New_York:20260315T120000
DTEND;TZID=America/New_York:20260315T170000
DTSTAMP:20260425T063832
CREATED:20260128T162329Z
LAST-MODIFIED:20260128T162329Z
UID:10000661-1773576000-1773594000@calhounil.org
SUMMARY:Game Day\, Sons of American Legion | Brussels
DESCRIPTION:
URL:https://calhounil.org/event/game-day-sons-of-american-legion-brussels/
LOCATION:American Legion Hall – Brussels IL\, 121 Main Street\, Brussels\, IL\, 62013\, United States
END:VEVENT
BEGIN:VEVENT
DTSTART;TZID=America/New_York:20260314T183000
DTEND;TZID=America/New_York:20260314T220000
DTSTAMP:20260425T063832
CREATED:20260112T000807Z
LAST-MODIFIED:20260207T153943Z
UID:10000632-1773513000-1773525600@calhounil.org
SUMMARY:Golden Eagle Youth Trap Team Trivia Night
DESCRIPTION:The Golden Eagle Youth Trap team is hosting a Trivia Night at the Brussels American Legion on Saturday\, March 14\, 2026. Reserve a table of 8 players for $100 by contacting Rachel Wilschetz-Hartman\, Vicki Struse\, or Mary Federle. Look forward to 10 rounds of fun questions\, covering music and movies\, history\, and sports. Between rounds\, try your luck in a poker hand\, raffles\, and other surprise games. Food will be available for purchase\, but you are welcome to bring your own snacks and treats. Drinks must be purchased at the bar.
URL:https://calhounil.org/event/golden-eagle-youth-trap-team-trivia-night/
LOCATION:American Legion Hall – Brussels IL\, 121 Main Street\, Brussels\, IL\, 62013\, United States
ATTACH;FMTTYPE=image/png:https://calhounil.org/wp-content/uploads/2026/01/Golden-Eagle-Youth-Trap.png
END:VEVENT
BEGIN:VEVENT
DTSTART;TZID=America/New_York:20260222T120000
DTEND;TZID=America/New_York:20260222T170000
DTSTAMP:20260425T063832
CREATED:20260128T162136Z
LAST-MODIFIED:20260204T201128Z
UID:10000660-1771761600-1771779600@calhounil.org
SUMMARY:St. Mary School Dinner Auction
DESCRIPTION:On Saturday and Sunday\, February 21st (11-8) & 22nd (12-5)\, 2026\, at the American Legion in Brussels\, the St. Mary Support Committee will be hosting its Annual Dinner Auction. \nThis event is our most important fundraiser\, and we truly need your support! We will serve a delicious dinner available via drive-thru\, carryout\, or dine-in\, along with exciting raffles and an online auction that allows everyone to participate\, even if you are not able to attend in person. \nProceeds from the event directly benefit our students. Through the generosity of donors like you\, St. Mary School is able to provide a quality Catholic education and help our students reach their full academic\, emotional\, physical\, social\, and spiritual potential in a faith-filled environment. \n2026 SMS Benefit\n\nWelcome! We are so excited to offer our silent auction in a new way and hope you find it an even better bidding experience! \n\nLegion will be open Saturday 11-8 and Sunday 12-5 for viewing of silent auction items and to purchase card draws\, grand raffle\, and drop bucket tickets.\n\n\nChicken dinner Saturday 4:30-8 (sponsors start at 4). Drive thru\, carry out\, or dine in.\n\nThe future of St. Mary School is vital to our community\, and we are deeply grateful for your support. We take great pride in the strong academic and faith-based education provided at St. Mary School\, and we thank you for helping us continue this mission. 
URL:https://calhounil.org/event/st-mary-school-dinner-auction-4/
LOCATION:American Legion Hall – Brussels IL\, 121 Main Street\, Brussels\, IL\, 62013\, United States
ATTACH;FMTTYPE=image/jpeg:https://calhounil.org/wp-content/uploads/2026/01/579051238_10104735843528734_3028440321928786056_n-1.jpg
END:VEVENT
BEGIN:VEVENT
DTSTART;TZID=America/New_York:20260221T110000
DTEND;TZID=America/New_York:20260221T200000
DTSTAMP:20260425T063832
CREATED:20260128T161937Z
LAST-MODIFIED:20260204T201331Z
UID:10000659-1771671600-1771704000@calhounil.org
SUMMARY:St. Mary School Dinner Auction
DESCRIPTION:On Saturday and Sunday\, February 21st (11-8) & 22nd (12-5)\, 2026\, at the American Legion in Brussels\, the St. Mary Support Committee will be hosting its Annual Dinner Auction. \nThis event is our most important fundraiser\, and we truly need your support! We will serve a delicious dinner available via drive-thru\, carryout\, or dine-in\, along with exciting raffles and an online auction that allows everyone to participate\, even if you are not able to attend in person. \nProceeds from the event directly benefit our students. Through the generosity of donors like you\, St. Mary School is able to provide a quality Catholic education and help our students reach their full academic\, emotional\, physical\, social\, and spiritual potential in a faith-filled environment. \n2026 SMS Benefit\n\nWelcome! We are so excited to offer our silent auction in a new way and hope you find it an even better bidding experience! \n\nLegion will be open Saturday 11-8 and Sunday 12-5 for viewing of silent auction items and to purchase card draws\, grand raffle\, and drop bucket tickets.\n\n\nChicken dinner Saturday 4:30-8 (sponsors start at 4). Drive thru\, carry out\, or dine in.\n\nThe future of St. Mary School is vital to our community\, and we are deeply grateful for your support. We take great pride in the strong academic and faith-based education provided at St. Mary School\, and we thank you for helping us continue this mission. 
URL:https://calhounil.org/event/st-mary-school-dinner-auction-3/
LOCATION:American Legion Hall – Brussels IL\, 121 Main Street\, Brussels\, IL\, 62013\, United States
ATTACH;FMTTYPE=image/jpeg:https://calhounil.org/wp-content/uploads/2026/01/579051238_10104735843528734_3028440321928786056_n-1.jpg
END:VEVENT
BEGIN:VEVENT
DTSTART;TZID=America/New_York:20260207T050000
DTEND;TZID=America/New_York:20260207T200000
DTSTAMP:20260425T063832
CREATED:20260112T000728Z
LAST-MODIFIED:20260112T000728Z
UID:10000630-1770440400-1770494400@calhounil.org
SUMMARY:Me & My Guy Dance
DESCRIPTION:Save the date for this fun event with the theme Ladies and Lumberjacks. Girls can get as fancy as they want or find cozy flannel attire. Dads can go with some flannel or get decked out for their date night.\nDinner\, dancing\, snacks\, a take-home photo\, and activities are included in the price.\nRegistration for the Brussels Girl Scouts Ladies and Lumberjacks Me & My Guy is now open!\nhttps://meandmyguy2026.cheddarup.com
URL:https://calhounil.org/event/me-my-guy-dance/
LOCATION:American Legion Hall – Brussels IL\, 121 Main Street\, Brussels\, IL\, 62013\, United States
ATTACH;FMTTYPE=image/png:https://calhounil.org/wp-content/uploads/2026/01/Father-Daughter-1.png
END:VEVENT
BEGIN:VEVENT
DTSTART;TZID=America/New_York:20251018T180000
DTEND;TZID=America/New_York:20251018T220000
DTSTAMP:20260425T063832
CREATED:20250803T222631Z
LAST-MODIFIED:20250803T222631Z
UID:10000531-1760810400-1760824800@calhounil.org
SUMMARY:St. Mary's Trivia Night
DESCRIPTION:
URL:https://calhounil.org/event/st-marys-trivia-night/
LOCATION:American Legion Hall – Brussels IL\, 121 Main Street\, Brussels\, IL\, 62013\, United States
END:VEVENT
BEGIN:VEVENT
DTSTART;TZID=America/New_York:20250427T130000
DTEND;TZID=America/New_York:20250427T170000
DTSTAMP:20260425T063832
CREATED:20250307T204034Z
LAST-MODIFIED:20250307T204034Z
UID:10000467-1745758800-1745773200@calhounil.org
SUMMARY:Game Day!
DESCRIPTION:
URL:https://calhounil.org/event/game-day/
LOCATION:American Legion Hall – Brussels IL\, 121 Main Street\, Brussels\, IL\, 62013\, United States
END:VEVENT
END:VCALENDAR